BEGIN:VCALENDAR
VERSION:2.0
PRODID:-//hacksw/handcal//NONSGML v1.0//EN
BEGIN:VEVENT
SUMMARY:Rando : sortie 3000
UID:79dc9b20-8ad1-45d7-a848-871f50be9e2d
DTSTART:20260816T220000Z
DTEND:20260821T220000Z
LOCATION:Localisation   
CATEGORIES:Sportif
STATUS:
DESCRIPTION:<p>Accompagnateur Christian Auger : circuit itinerant 3
 jours de rando : le tour des rochers de St Ours</p>
 
 <p>Uniquement
 sur inscription</p>
URL;VALUE=URI:https://www.stdenisrandocyclo.fr/evenements/2026/08/17/rando-sortie-3000-2431388
END:VEVENT
END:VCALENDAR
