BEGIN:VCALENDAR
VERSION:2.0
PRODID:-//hacksw/handcal//NONSGML v1.0//EN
BEGIN:VEVENT
SUMMARY:Rando Hotonnes
UID:3101e87a-02d0-4c33-a188-e029c689bee7
DTSTART:20260421T060000Z
DTEND:20260421T220000Z
LOCATION:Localisation   
CATEGORIES:Sportif
STATUS:
DESCRIPTION:<p>  Accompagnateur Georges Rodet  : sentier du maquis
 : 18 km - 6 h de marche - 720m de denivele - depart
 8h00</p>
 
 <p><u><span style="color:#e74c3c;">Randonnee initialement
 prevue le 5 mai 26 sur le calendrier papier</span></u></p>
URL;VALUE=URI:https://www.stdenisrandocyclo.fr/evenements/2026/04/21/rando-hotonnes-2431273
END:VEVENT
END:VCALENDAR
